BEGIN:VCALENDAR
VERSION:2.0
PRODID:-//Loving Awareness - ECPv6.15.20//NONSGML v1.0//EN
CALSCALE:GREGORIAN
METHOD:PUBLISH
X-WR-CALNAME:Loving Awareness
X-ORIGINAL-URL:https://lovingawareness.org
X-WR-CALDESC:Events for Loving Awareness
REFRESH-INTERVAL;VALUE=DURATION:PT1H
X-Robots-Tag:noindex
X-PUBLISHED-TTL:PT1H
BEGIN:VTIMEZONE
TZID:America/Chicago
BEGIN:DAYLIGHT
TZOFFSETFROM:-0600
TZOFFSETTO:-0500
TZNAME:CDT
DTSTART:20250309T080000
END:DAYLIGHT
BEGIN:STANDARD
TZOFFSETFROM:-0500
TZOFFSETTO:-0600
TZNAME:CST
DTSTART:20251102T070000
END:STANDARD
BEGIN:DAYLIGHT
TZOFFSETFROM:-0600
TZOFFSETTO:-0500
TZNAME:CDT
DTSTART:20260308T080000
END:DAYLIGHT
BEGIN:STANDARD
TZOFFSETFROM:-0500
TZOFFSETTO:-0600
TZNAME:CST
DTSTART:20261101T070000
END:STANDARD
BEGIN:DAYLIGHT
TZOFFSETFROM:-0600
TZOFFSETTO:-0500
TZNAME:CDT
DTSTART:20270314T080000
END:DAYLIGHT
BEGIN:STANDARD
TZOFFSETFROM:-0500
TZOFFSETTO:-0600
TZNAME:CST
DTSTART:20271107T070000
END:STANDARD
END:VTIMEZONE
BEGIN:VEVENT
DTSTART;TZID=America/Chicago:20260206T183000
DTEND;TZID=America/Chicago:20260206T200000
DTSTAMP:20260423T124047
CREATED:20251212T174031Z
LAST-MODIFIED:20260130T164713Z
UID:16261-1770402600-1770408000@lovingawareness.org
SUMMARY:Brilliant Bliss Mantra Music Journey
DESCRIPTION:COMMUNITY SINGING UPLIFTS THE SPIRIT\, OPENS THE HEART\, CALMS THE MIND\, AND INSTILLS CONNECTION AND INNER-HARMONY. JOIN THE CIRCLE AND EXPERIENCE IT WITH US! \n\n\n\nSACRED SOUND MEDICINE FOR HEART AND SOUL ~ SING . LISTEN . BREATHE . CONNECT . BE .\n\n\n\nPlease register here: https://beingcollective.us/event/brilliant-bliss-mantra-music-journey-2/ \n\n\n\nDid you know that singing in community can increase inner-peace\, uplift your mind\, open your heart + leave you feeling more connected\, centered\, and alive? \n\n\n\nJoin our Family Band — Savi\, Mark\, Deann\, Denise\, Eliana + soul family friends — for an evening of Brilliant Bliss: a participatory\, co-creative music + sound healing journey. \n\n\n\nCome sing with us\, rock your body\, dance if the mood arises\, and bask in the ocean of sacred sounds and heart connection with soul family. \n\n\n\nNot a singer? No problem! Come and immerse in the sound current and BE. \n\n\n\nBrilliant Bliss Mantra Music is sacred sound medicine for heart & soul\, weaving high vibe conscious lyrics\, ancient mantras\, and earthy-cosmic grooves that embrace\, uplift\, empower & elevate! \n\n\n\nThe most important part of the band is…YOU! \n\n\n\nIt’s YOUR Presence and open heart that co-create the magic that unfolds. \n\n\n\nTHANK YOU FOR CHOOSING TO JOIN US FOR THIS COLLECTIVE SOUL-ENRICHING EXPERIENCE!\n\n\n\nWhat to Bring — \n\n\n\nParking: available in the ramp behind our building \n\n\n\nPLEASE BRING for your comfort: \n\n\n\nCushion/pillow + blanket for floor seating\, if you prefer this \n\n\n\nWater bottle with sealable cap \n\n\n\nPlease register here: https://beingcollective.us/event/brilliant-bliss-mantra-music-journey-2/
URL:https://lovingawareness.org/event/brilliant-bliss-mantra-music-journey/
LOCATION:Being Collective\, 109 S Appleton St\, Appleton\, Wisconsin\, 54911\, United States
CATEGORIES:Mantra Music Journey
ATTACH;FMTTYPE=image/jpeg:https://lovingawareness.org/wp-content/uploads/2025/12/Screenshot-2026-01-30-at-10.19.51-AM.jpg
END:VEVENT
END:VCALENDAR