BEGIN:VCALENDAR
VERSION:2.0
PRODID:-//Loving Awareness - ECPv6.15.20//NONSGML v1.0//EN
CALSCALE:GREGORIAN
METHOD:PUBLISH
X-WR-CALNAME:Loving Awareness
X-ORIGINAL-URL:https://lovingawareness.org
X-WR-CALDESC:Events for Loving Awareness
REFRESH-INTERVAL;VALUE=DURATION:PT1H
X-Robots-Tag:noindex
X-PUBLISHED-TTL:PT1H
BEGIN:VTIMEZONE
TZID:America/Chicago
BEGIN:DAYLIGHT
TZOFFSETFROM:-0600
TZOFFSETTO:-0500
TZNAME:CDT
DTSTART:20250309T080000
END:DAYLIGHT
BEGIN:STANDARD
TZOFFSETFROM:-0500
TZOFFSETTO:-0600
TZNAME:CST
DTSTART:20251102T070000
END:STANDARD
BEGIN:DAYLIGHT
TZOFFSETFROM:-0600
TZOFFSETTO:-0500
TZNAME:CDT
DTSTART:20260308T080000
END:DAYLIGHT
BEGIN:STANDARD
TZOFFSETFROM:-0500
TZOFFSETTO:-0600
TZNAME:CST
DTSTART:20261101T070000
END:STANDARD
BEGIN:DAYLIGHT
TZOFFSETFROM:-0600
TZOFFSETTO:-0500
TZNAME:CDT
DTSTART:20270314T080000
END:DAYLIGHT
BEGIN:STANDARD
TZOFFSETFROM:-0500
TZOFFSETTO:-0600
TZNAME:CST
DTSTART:20271107T070000
END:STANDARD
END:VTIMEZONE
BEGIN:VEVENT
DTSTART;TZID=America/Chicago:20260305T183000
DTEND;TZID=America/Chicago:20260305T203000
DTSTAMP:20260423T111953
CREATED:20260215T041621Z
LAST-MODIFIED:20260215T041624Z
UID:16332-1772735400-1772742600@lovingawareness.org
SUMMARY:Community Call: Raise Your Voice | singing Resistance Fox Cities
DESCRIPTION:Have you felt inspired to SING in solidarity with our friends in Minnesota and around the globe? Do you want to raise your voice in a connected\, unified\, heart-led way? \n\n\n\nIf yes\, then meet with us on March 5th at Being Collective for our first Singing Resistance Fox Cities Intro | Info | SING Meeting. \n\n\n\n\n\nJoin the MOVEMENT that is SINGING Resistance + Growing LOVE for all\n\n\n\nPlease RSVP to: connect@beingcollective.us \n\n\n\nInspired by Singing Resistance Twin Cities\, we are excited and eager to help Singing Resistance Fox Cities find its collective voice as we organize\, mobilize\, and take to the streets\, rallies\, community centers and gatherings\, etc while using the power of our shared voices in music and song to create change and transformation for good. \n\n\n\nMark and I attended a webinar recently with the Singing Resistance team. Around 3000 people attended!! The purpose is to support groups all around the country (and world!) to join the movement in Singing Resistance for a brighter\, better world. \n\n\n\nThe webinar was AMAZING! This team is inspired! organized! and super LOVING and supportive!! They’ve created a toolkit and songbook for all of us to utilize so we can step right into the wave they’ve so beautifully created and ride it right here in the Fox Cities to SING and raise our voices locally!
URL:https://lovingawareness.org/event/community-call-raise-your-voice-singing-resistance-fox-cities/
LOCATION:Being Collective\, 109 S Appleton St\, Appleton\, Wisconsin\, 54911\, United States
CATEGORIES:Singing,
ATTACH;FMTTYPE=image/jpeg:https://lovingawareness.org/wp-content/uploads/2026/02/Screenshot-2026-02-12-at-5.06.36-PM.jpg
END:VEVENT
END:VCALENDAR