BEGIN:VCALENDAR
VERSION:2.0
PRODID:-//Loving Awareness - ECPv6.15.20//NONSGML v1.0//EN
CALSCALE:GREGORIAN
METHOD:PUBLISH
X-WR-CALNAME:Loving Awareness
X-ORIGINAL-URL:https://lovingawareness.org
X-WR-CALDESC:Events for Loving Awareness
REFRESH-INTERVAL;VALUE=DURATION:PT1H
X-Robots-Tag:noindex
X-PUBLISHED-TTL:PT1H
BEGIN:VTIMEZONE
TZID:America/Chicago
BEGIN:DAYLIGHT
TZOFFSETFROM:-0600
TZOFFSETTO:-0500
TZNAME:CDT
DTSTART:20250309T080000
END:DAYLIGHT
BEGIN:STANDARD
TZOFFSETFROM:-0500
TZOFFSETTO:-0600
TZNAME:CST
DTSTART:20251102T070000
END:STANDARD
BEGIN:DAYLIGHT
TZOFFSETFROM:-0600
TZOFFSETTO:-0500
TZNAME:CDT
DTSTART:20260308T080000
END:DAYLIGHT
BEGIN:STANDARD
TZOFFSETFROM:-0500
TZOFFSETTO:-0600
TZNAME:CST
DTSTART:20261101T070000
END:STANDARD
BEGIN:DAYLIGHT
TZOFFSETFROM:-0600
TZOFFSETTO:-0500
TZNAME:CDT
DTSTART:20270314T080000
END:DAYLIGHT
BEGIN:STANDARD
TZOFFSETFROM:-0500
TZOFFSETTO:-0600
TZNAME:CST
DTSTART:20271107T070000
END:STANDARD
END:VTIMEZONE
BEGIN:VEVENT
DTSTART;TZID=America/Chicago:20260320T190000
DTEND;TZID=America/Chicago:20260320T203000
DTSTAMP:20260423T111929
CREATED:20260211T021339Z
LAST-MODIFIED:20260211T021432Z
UID:16326-1774033200-1774038600@lovingawareness.org
SUMMARY:REAWAKEN | Ecstatic Dance Experience
DESCRIPTION:Ecstatic Dance Experiences at Being Collective … \n\n\n\nIntentional sound and movement alchemy for embodied transformation! \n\n\n\n\n\nPre-paid Registration Appreciated. Sliding scale. Scroll for ticket options. RSVP needed. If you plan to pay at the door please send us an email: connect@beingcollective.us Venmo or cash at the door.<<< REGISTER HERE >>> \n\n\n\nThe Flow\n\n\n\nDoors open at 6:45Doors will be closed between 7:00 – 7:15 to create and hold a sacred space for the group* Times are approximate … the FLOW naturally unfolds!7:00 | Breathe & Stretch + Opening Circle with Savi + Mark7:15 | Ecstatic Dance Journey DJ’d by Mark8:30-ish | Closing Circle guided by Savi + Mark \n\n\n\nThe Experience\n\n\n\nJoin us for an evening of dance and liberation.Ecstatic dance is a judgment free movement exploration space. Feel free to dance\, stretch\, or rest as you please\, as long as everyone’s space and experience is respected. \n\n\n\nCome and move and BE as you are!This is YOUR dance — your journey of self-expression\, transformation\, and LIBERATION in the company of others BEing and doing the same. No experience necessary. This is a sober event. \n\n\n\nThe STORY\n\n\n\nEcstatic dance is a free-form dance practice where participants move to music without following specific steps. The music provides the journey\, and participants feel\, move\, and weave through the soundscapes freely. The sacred intent is to provide a liberating and joyful space for self-expression through movement in the company of others doing the same. \n\n\n\nThe dance floor is a sacred space where we join together to journey into sound\, rhythm\, movement\, and breath. \n\n\n\nAs we enter into the journey\, we commit to an intentional\, sacred\, and safe space where we are all held and honored — on the dance floor we let go and free ourselves as we drop deep into the experience\, inviting and allowing powerful transformational dance moments that can invoke a natural ecstatic state from immersing in embodied connection within ourselves and our surroundings. \n\n\n\nWhen we step onto the dance floor\, we invite and include our whole selves\, even the frightened parts that want to hideWe dance through pain and sorrowWe dance with joy until our hard edges soften and our masks fall awayWe dance\, bravely allowing the uniqueness of our authentic nature to beam throughWe meet other courageous dancers\, weaving unbreakable threads of connectionOur connections and friendships transcend the boundaries of time and spaceAnd it all melts together —Sound\, beat\, movement\, breath —into a swirling vortex we embrace as communityAs the throbbing pulse of the dance floor matches our own heartbeat\, we know\, without a doubt\, we are not alone — we are all connectedAnd we return\, again and again to the dance floor to uplift ourselves in community\, connection\, belonging\, love\, peace\, and joy! \n\n\n\nThe guidelines\n\n\n\nAll are embraced and welcome.We ask that all honor and respect the shared space and one another. \n\n\n\nBe free | dance\, move\, and be still how and when you want — no judgementBe present | no phonesBe clear | no intoxicants or altering substancesBe embodied | no talking (expressive\, embodied sounds are invited!)Be consensual | if it’s not a clear yes\, it’s a no \n\n\n\n\n\n\n\nPre-paid Registration Appreciated.  Register HERE: https://beingcollective.us/event/reawaken-ecstatic-dance-experience-2/ \n\n\n\nSliding scale. Scroll for ticket options. RSVP needed. If you plan to pay at the door please send us an email: connect@beingcollective.us Venmo or cash at the door.
URL:https://lovingawareness.org/event/reawaken-ecstatic-dance-experience/
LOCATION:Wisconsin
CATEGORIES:Ecstatic Dance
ATTACH;FMTTYPE=image/jpeg:https://lovingawareness.org/wp-content/uploads/2026/02/COVER-REAWAKEN-Ecstatic-Dance-4.10.2025.jpg
END:VEVENT
END:VCALENDAR