BEGIN:VCALENDAR
VERSION:2.0
PRODID:-//Loving Awareness - ECPv6.15.20//NONSGML v1.0//EN
CALSCALE:GREGORIAN
METHOD:PUBLISH
X-ORIGINAL-URL:https://lovingawareness.org
X-WR-CALDESC:Events for Loving Awareness
REFRESH-INTERVAL;VALUE=DURATION:PT1H
X-Robots-Tag:noindex
X-PUBLISHED-TTL:PT1H
BEGIN:VTIMEZONE
TZID:America/Chicago
BEGIN:DAYLIGHT
TZOFFSETFROM:-0600
TZOFFSETTO:-0500
TZNAME:CDT
DTSTART:20250309T080000
END:DAYLIGHT
BEGIN:STANDARD
TZOFFSETFROM:-0500
TZOFFSETTO:-0600
TZNAME:CST
DTSTART:20251102T070000
END:STANDARD
BEGIN:DAYLIGHT
TZOFFSETFROM:-0600
TZOFFSETTO:-0500
TZNAME:CDT
DTSTART:20260308T080000
END:DAYLIGHT
BEGIN:STANDARD
TZOFFSETFROM:-0500
TZOFFSETTO:-0600
TZNAME:CST
DTSTART:20261101T070000
END:STANDARD
BEGIN:DAYLIGHT
TZOFFSETFROM:-0600
TZOFFSETTO:-0500
TZNAME:CDT
DTSTART:20270314T080000
END:DAYLIGHT
BEGIN:STANDARD
TZOFFSETFROM:-0500
TZOFFSETTO:-0600
TZNAME:CST
DTSTART:20271107T070000
END:STANDARD
END:VTIMEZONE
BEGIN:VEVENT
DTSTART;TZID=America/Chicago:20260501T183000
DTEND;TZID=America/Chicago:20260501T194500
DTSTAMP:20260423T065217
CREATED:20260104T221031Z
LAST-MODIFIED:20260204T014004Z
UID:16285-1777660200-1777664700@lovingawareness.org
SUMMARY:Full Moon Sound Alchemy
DESCRIPTION:Join us for a guided interactive full moon energy journey … then immerse in the sonic healing waves of an intuitively unfolding Sound Alchemy experience. \n\n\n\nPlease PRE-Register before 1pm on Monday May 1st  Register HERE: https://beingcollective.us/event/full-moon-sound-alchemy-7/ \n\n\n\n\n\nBe with us for this guided\, interactive and immersive experience honoring the energy of the full moon as we harness the power of our breath\, merged with meditative mantras and liberating vocalizing to free the mind and body before we lift off into a journey of pure ethereal and ancestral sonic alchemy. \n\n\n\nPlease bring yoga mat\, blanket\, water bottle and anything else to assist in your comfort while sitting / laying on our wood floor. \n\n\n\nOur time together opens with honoring\, intentions\, and meditation in sync with the moon’s energy and gently eases into an intuitive flow of sacred sound current that soothes\, calms\, inspires\, and aids in gentle release\, while supporting inner peace\, balance\, and transformation. \n\n\n\nOur heart and intuition crafted full moon sound alchemy experiences uplift you on a magic carpet ride with waves and waves of resonating frequency.Immerse yourself. \n\n\n\nFriday\,  May 1 @ Being Collective109 S Appleton St6:30 – 7:45 pm | 75 Minutes | $30/Person \n\n\n\nSavi and Mark\, your Loving Awareness Guides\, tune into the collective energy of those present to deliver a unique and immersive experience — bringing a field of Love and Healing alive in the most felt\, balancing\, and beautiful ways. \n\n\n\nMark and Savi are seasoned Conscious Experience Guides who take great care to create and hold sacred space for souls to embody authentically\, while allowing rest\, reset\, and restoration from within. \n\n\n\nEach Sound Alchemy Experience features a unique synergy of some of the following: \n\n\n\nHandpan\, crystal and Origin Series Singing Bowls\, overtone flute\, Koshi chimes\, metallophones\, seed rattles\, medicine drums\, vibrational drones and harmonium\, sounding breath\, nature sounds\, intuited Light Language\, and vocal toning\, singing\, and more… \n\n\n\nAllow yourself to rest\, reset\, and restore as you receive the waves of vibrational sound medicine. \n\n\n\nThe journey comes full circle with some moments of peaceful silence before being gently guided back into the waking moment\, allowing time for reflection and integration. \n\n\n\nPlease Register Here: https://beingcollective.us/event/full-moon-sound-alchemy-7/
URL:https://lovingawareness.org/event/full-moon-sound-alchemy-5/
LOCATION:Being Collective\, 109 S Appleton St\, Appleton\, Wisconsin\, 54911\, United States
CATEGORIES:Full Moon
ATTACH;FMTTYPE=image/jpeg:https://lovingawareness.org/wp-content/uploads/2025/10/Screenshot-2025-03-31-at-1.05.13-PM.jpg
END:VEVENT
BEGIN:VEVENT
DTSTART;TZID=America/Chicago:20260508T183000
DTEND;TZID=America/Chicago:20260508T200000
DTSTAMP:20260423T065217
CREATED:20260323T012759Z
LAST-MODIFIED:20260323T012804Z
UID:16347-1778265000-1778270400@lovingawareness.org
SUMMARY:Community Singing! Brilliant Bliss Mantra Music | Kirtan
DESCRIPTION:When we sing in harmony together it just plain feels GOOD! AND… it creates a unified field of purpose\, power\, and love that amplifies our connection and collective presence. Come raise your voices in song with us! \n\n\n\n\n\nSinging together helps! It helps to give emotions a safe channel for release\, it helps to uplift our tired spirits and renew our souls\, it opens the heart and calms the mind\, it creates a deeper sense of belonging and unified connection\, it brings inner-harmony. Come sing with us! We need this!! \n\n\n\nPlease Register Here \n\n\n\nSACRED SOUND MEDICINE FOR HEART AND SOUL ~ SING . LISTEN . BREATHE . CONNECT . BE .\n\n\n\nThese gatherings of singing ancient mantras + conscious lyrics are heart + soul medicine that support us now more than ever. Let’s GO! We need this!!You don’t have to be a singer to join us … the collective voice creates a brilliantly beautiful sound that heals the heart and uplifts the spirit! Come! \n\n\n\nAbout Our CommUNITY Mantra Music Journeys\n\n\n\nDid you know that singing in community can increase inner-peace\, uplift your mind\, open your heart + leave you feeling more connected\, centered\, and alive? \n\n\n\nJoin our Family Band — Savi\, Mark\, Deann\, Denise\, Eliana + soul family friends — for an evening of Brilliant Bliss: a participatory\, co-creative music + sound healing journey. \n\n\n\nKarli from the amazing local duo\, Natural Satellite\, will be joining us on cello. \n\n\n\nCome sing with us\, rock your body\, dance if the mood arises\, and bask in the ocean of sacred sounds and heart connection with soul family. \n\n\n\nNot a singer? No problem! Come and immerse in the sound current and BE. \n\n\n\nBrilliant Bliss Mantra Music is sacred sound medicine for heart & soul\, weaving high vibe conscious lyrics\, ancient mantras\, and earthy-cosmic grooves that embrace\, uplift\, empower & elevate! \n\n\n\nThe most important part of the band is…YOU! \n\n\n\nIt’s YOUR Presence and open heart that co-create the magic that unfolds. \n\n\n\nTHANK YOU FOR CHOOSING TO JOIN US FOR THIS COLLECTIVE SOUL-ENRICHING EXPERIENCE!\n\n\n\nWhat to Bring — \n\n\n\nParking: available in the ramp behind our building \n\n\n\nPLEASE BRING for your comfort: \n\n\n\nCushion/pillow + blanket for floor seating\, if you prefer this. We have chairs available if you prefer not to sit on the floor. \n\n\n\nWater bottle with sealable cap \n\n\n\nFlexible pricing for this event!Please choose the ticket price that works the best for you.Cash or Venmo option also available at the door. If not pre-purchasing a ticket please email us ahead of the event to let us know you will be joining us. connect@beingcollective.us.Thanks for your support! \n\n\n\nPlease register here
URL:https://lovingawareness.org/event/community-singing-brilliant-bliss-mantra-music-kirtan/
LOCATION:Being Collective\, 109 S Appleton St\, Appleton\, Wisconsin\, 54911\, United States
CATEGORIES:Brilliant Bliss Band,Mantra Music Journey
ATTACH;FMTTYPE=image/jpeg:https://lovingawareness.org/wp-content/uploads/2025/12/Screenshot-2026-01-30-at-10.19.51-AM.jpg
END:VEVENT
BEGIN:VEVENT
DTSTART;TZID=America/Chicago:20260517T103000
DTEND;TZID=America/Chicago:20260517T124500
DTSTAMP:20260423T065217
CREATED:20260323T031506Z
LAST-MODIFIED:20260328T030532Z
UID:16357-1779013800-1779021900@lovingawareness.org
SUMMARY:Soul Sound Journey with Savi + Mark | Sound Alchemy for Mind\, Body\, Spirit
DESCRIPTION:Journey with us! Rest. Reset. Restore.Soothing Sunday Soul Sound Journeys … your soul is calling. \n\n\n\nWe invite you to experience how intentionally crafted sound vibrations can give you a restful and revitalizing restorative reset. Come be cocooned in resonant waves of sonic vibrations created and inspired in the moment.  \n\n\n\nPlease Pre – Register HERE \n\n\n\nPRE – REGISTRATION appreciated due to event popularity and space availability. \n\n\n\n\n\nSavi and Mark\, your Loving Awareness Soul Sound Journey guides\, tune into the collective energy of those present to deliver a unique and immersive soundscape — bringing a field of nurturing love and healing alive in the most felt\, balancing\, and beautiful ways. \n\n\n\nImmerse Yourself in a sonic river of healing\, an ocean love with waves and waves of resonating frequency that soothe\, calm\, aid in gentle release\, and support inner peace\, balance\, and transformation. \n\n\n\nMark and Savi are seasoned Conscious Experience Guides who know how to create and hold sacred space for souls to embody authentically\, while allowing rest\, reset\, and restoration from within. \n\n\n\nSoul Sound Journeys with Savi and Mark are one of a kind (and never the same thing twice!)\, featuring a unique synergy of the following: \n\n\n\nHandpan\, Tibetan\, crystal\, and Origin Series singing bowls\, overtone flute\, drone flutes\, ocarina (clay flute)\, Nepalese bells\, Koshi chimes\, metallophones\, seed rattles\, medicine drums\, vibrational drones and harmonium\, sounding breath\, nature sounds\, intuited Light Language\, and vocal toning\, singing\, and more… \n\n\n\nAllow yourself to rest\, reset\, and restore as you receive the waves of vibrational sound medicine. \n\n\n\nThe journey comes full circle with some moments of peaceful silence before being gently guided back into the waking moment\, allowing time for reflection and integration. \n\n\n\nWhat To Bring: \n\n\n\nAnything that will support you in feeling comfy\, cozy\, and cocooned during the journey! \n\n\n\nSuggestions are: \n\n\n\n\nYoga Mat\, other thicker mat\n\n\n\nBlanket(s)\n\n\n\nPillow(s)\n\n\n\nSocks/Slippers\n\n\n\nEye Mask (if you want to block light\, totally optional\, listen to your inner guidance)\n\n\n\nWater bottle\n\n\n\n\nWhat to Expect: \n\n\n\n\nThe full journey from start to finish will be 75 minutes\, including introduction at the beginning and integration/reflection time at the end\n\n\n\nWe are a shoes off gathering space\, please feel free to bring slippers or cozy socks\n\n\n\nYou will be invited to lie down during the sound journey\, and you are welcome to change positions at any time for comfort. \n\n\n\nOther familiar terms you may have heard for experiences like this can be: sound bath\, sound healing\, sound therapy\, etc. We choose Soul Sound Journey and Sound Alchemy for our unique experience as it is a transformative sound vibration fusion of intuitive\, indigenous\, and ancient\, ancestral sounds and vocalizations that ‘speak to the soul’.\n\n\n\n\nWe look forward to journeying into the alchemy of sound with you! \n\n\n\nWant to Schedule a Private Group Soul Sound Journey? \n\n\n\nTo book a private Soul Sound Journey for your special group\, please reach out: \n\n\n\nconnect@beingcollective.us  \n\n\n\nPlease Pre – Register HERE
URL:https://lovingawareness.org/event/soul-sound-journey-with-savi-mark-sound-alchemy-for-mind-body-spirit-2/
LOCATION:Being Collective\, 109 S Appleton St\, Appleton\, Wisconsin\, 54911\, United States
CATEGORIES:Soul Sound Journey
ATTACH;FMTTYPE=image/jpeg:https://lovingawareness.org/wp-content/uploads/2025/01/Screenshot-2025-01-06-5.32.56-PM.jpg
END:VEVENT
BEGIN:VEVENT
DTSTART;TZID=America/Chicago:20260619T183000
DTEND;TZID=America/Chicago:20260619T200000
DTSTAMP:20260423T065217
CREATED:20260323T013640Z
LAST-MODIFIED:20260323T013643Z
UID:16351-1781893800-1781899200@lovingawareness.org
SUMMARY:Community Singing! Brilliant Bliss Mantra Music | Kirtan
DESCRIPTION:Singing together helps! It helps to give emotions a safe channel for release\, it helps to uplift our tired spirits and renew our souls\, it opens the heart and calms the mind\, it creates a deeper sense of belonging and unified connection\, it brings inner-harmony. Come sing with us! We need this!! \n\n\n\n\n\nSACRED SOUND MEDICINE FOR HEART AND SOUL ~ SING . LISTEN . BREATHE . CONNECT . BE .\n\n\n\nThese gatherings of singing ancient mantras + conscious lyrics are heart + soul medicine that support us now more than ever. Let’s GO! We need this!!You don’t have to be a singer to join us … the collective voice creates a brilliantly beautiful sound that heals the heart and uplifts the spirit! Come! \n\n\n\nPlease Register Here \n\n\n\nAbout Our CommUNITY Mantra Music Journeys\n\n\n\nDid you know that singing in community can increase inner-peace\, uplift your mind\, open your heart + leave you feeling more connected\, centered\, and alive? \n\n\n\nJoin our Family Band — Savi\, Mark\, Deann\, Denise\, Eliana + soul family friends — for an evening of Brilliant Bliss: a participatory\, co-creative music + sound healing journey. \n\n\n\nKarli from the amazing local duo\, Natural Satellite\, will be joining us on cello. \n\n\n\nCome sing with us\, rock your body\, dance if the mood arises\, and bask in the ocean of sacred sounds and heart connection with soul family. \n\n\n\nNot a singer? No problem! Come and immerse in the sound current and BE. \n\n\n\nBrilliant Bliss Mantra Music is sacred sound medicine for heart & soul\, weaving high vibe conscious lyrics\, ancient mantras\, and earthy-cosmic grooves that embrace\, uplift\, empower & elevate! \n\n\n\nThe most important part of the band is…YOU! \n\n\n\nIt’s YOUR Presence and open heart that co-create the magic that unfolds. \n\n\n\nTHANK YOU FOR CHOOSING TO JOIN US FOR THIS COLLECTIVE SOUL-ENRICHING EXPERIENCE!\n\n\n\nWhat to Bring — \n\n\n\nParking: available in the ramp behind our building \n\n\n\nPLEASE BRING for your comfort: \n\n\n\nCushion/pillow + blanket for floor seating\, if you prefer this. We have chairs available if you prefer not to sit on the floor. \n\n\n\nWater bottle with sealable cap \n\n\n\nFlexible pricing for this event!Please choose the ticket price that works the best for you.Cash or Venmo option also available at the door. If not pre-purchasing a ticket please email us ahead of the event to let us know you will be joining us. connect@beingcollective.us.Thanks for your support! \n\n\n\nPlease Register Here
URL:https://lovingawareness.org/event/community-singing-brilliant-bliss-mantra-music-kirtan-2/
LOCATION:Being Collective\, 109 S Appleton St\, Appleton\, Wisconsin\, 54911\, United States
CATEGORIES:Brilliant Bliss Band,Mantra Music Journey,Singing,
ATTACH;FMTTYPE=image/jpeg:https://lovingawareness.org/wp-content/uploads/2025/12/Screenshot-2026-01-30-at-10.19.51-AM.jpg
END:VEVENT
BEGIN:VEVENT
DTSTART;TZID=America/Chicago:20260628T090000
DTEND;TZID=America/Chicago:20260628T170000
DTSTAMP:20260423T065217
CREATED:20260323T030546Z
LAST-MODIFIED:20260323T030548Z
UID:16354-1782637200-1782666000@lovingawareness.org
SUMMARY:Mandala Yoga Festival
DESCRIPTION:The Mandala Yoga Festival is a vibrant\, all-day event open to the community\, celebrating the diverse expressions of yoga and wellness. \n\n\n\nThis free festival invites participants to explore various styles and disciplines\, fostering a spirit of connection and inspiration. \n\n\n\nBeing Collective\, Savi and Mark\, are producing the sound arts area of the festival on the stage at Pierce Park. \n\n\n\nThe Sound Arts Odyssey is an immersive\, experiential\, adventurous epic sonic journey to elevate\, uplift and respark the soul \n\n\n\nWe intend to cultivate a loving energy that unites our community\, encouraging everyone to deepen their practice and share their unique gifts. Experience workshops\, classes\, and activities designed to inspire and uplift\, creating a space for growth and transformation.Come be part of the magic—let’s celebrate our shared passion for yoga together!
URL:https://lovingawareness.org/event/mandala-yoga-festival/
LOCATION:Pierce Park\, 1035 W Prospect Ave\, Appleton\, Wisconsin\, United States
ATTACH;FMTTYPE=image/png:https://lovingawareness.org/wp-content/uploads/2026/03/Screenshot-2025-05-20-at-9.02.44-AM.png
END:VEVENT
BEGIN:VEVENT
DTSTART;TZID=America/Chicago:20260827T183000
DTEND;TZID=America/Chicago:20260827T194500
DTSTAMP:20260423T065217
CREATED:20260124T195038Z
LAST-MODIFIED:20260401T183532Z
UID:16302-1787855400-1787859900@lovingawareness.org
SUMMARY:Full Moon Sound Alchemy
DESCRIPTION:Join us for a guided interactive full moon energy journey … then immerse in the sonic healing waves of an intuitively unfolding Sound Alchemy experience. \n\n\n\nPlease PRE-Register before 1pm on Thursday August 27th \n\n\n\n\n\nBe with us for this guided\, interactive and immersive experience honoring the energy of the full moon as we harness the power of our breath\, merged with meditative mantras and liberating vocalizing to free the mind and body before we lift off into a journey of pure ethereal and ancestral sonic alchemy. \n\n\n\nPlease bring yoga mat\, blanket\, water bottle and anything else to assist in your comfort while sitting / laying on our wood floor. \n\n\n\nOur time together opens with honoring\, intentions\, and meditation in sync with the moon’s energy and gently eases into an intuitive flow of sacred sound current that soothes\, calms\, inspires\, and aids in gentle release\, while supporting inner peace\, balance\, and transformation. \n\n\n\nOur heart and intuition crafted full moon sound alchemy experiences uplift you on a magic carpet ride with waves and waves of resonating frequency.Immerse yourself. \n\n\n\nSavi and Mark\, your Loving Awareness Guides\, tune into the collective energy of those present to deliver a unique and immersive experience — bringing a field of Love and Healing alive in the most felt\, balancing\, and beautiful ways. \n\n\n\nMark and Savi are seasoned Conscious Experience Guides who take great care to create and hold sacred space for souls to embody authentically\, while allowing rest\, reset\, and restoration from within. \n\n\n\nEach Sound Alchemy Experience features a unique synergy of some of the following: \n\n\n\nHandpan\, crystal and Origin Series Singing Bowls\, overtone flute\, Koshi chimes\, metallophones\, seed rattles\, medicine drums\, vibrational drones and harmonium\, sounding breath\, nature sounds\, intuited Light Language\, and vocal toning\, singing\, and more… \n\n\n\nAllow yourself to rest\, reset\, and restore as you receive the waves of vibrational sound medicine. \n\n\n\nThe journey comes full circle with some moments of peaceful silence before being gently guided back into the waking moment\, allowing time for reflection and integration. \n\n\n\nPlease Register at Being Collective HERE: https://beingcollective.us/event/full-moon-sound-alchemy-8/
URL:https://lovingawareness.org/event/full-moon-sound-alchemy-6/
LOCATION:Being Collective\, 109 S Appleton St\, Appleton\, Wisconsin\, 54911\, United States
CATEGORIES:Full Moon
ATTACH;FMTTYPE=image/jpeg:https://lovingawareness.org/wp-content/uploads/2025/10/Screenshot-2025-03-31-at-1.05.13-PM.jpg
END:VEVENT
BEGIN:VEVENT
DTSTART;TZID=America/Chicago:20260912T120000
DTEND;TZID=America/Chicago:20260912T160000
DTSTAMP:20260423T065217
CREATED:20260323T032027Z
LAST-MODIFIED:20260323T032030Z
UID:16359-1789214400-1789228800@lovingawareness.org
SUMMARY:World Peace Festival at Pierce Park
DESCRIPTION:What is World Peace Festival Fox Cities? \n\n\n\n\n\nThe World Peace Festival brings together people of all ages for a day of celebration\, reflection and collective hope for a more peaceful world. \n\n\n\nMission Statement: Inspired by the U.N. International Day of Peace\, our World Peace Festival is rooted in the belief that peace begins within and expands outward through conscious action\, shared understanding\, and loving connection. \n\n\n\nVision Statement: We are growing a community rooted in peace and love within a welcoming space where diversity is honored\, hope is cultivated\, and peace is nurtured.
URL:https://lovingawareness.org/event/world-peace-festival-at-pierce-park/
LOCATION:Pierce Park\, 1035 W Prospect Ave\, Appleton\, Wisconsin\, United States
ATTACH;FMTTYPE=image/jpeg:https://lovingawareness.org/wp-content/uploads/2026/03/Screenshot-2026-02-27-at-7.39.02-AM.jpg
END:VEVENT
END:VCALENDAR