BEGIN:VCALENDAR
VERSION:2.0
PRODID:-//Loving Awareness - ECPv6.15.20//NONSGML v1.0//EN
CALSCALE:GREGORIAN
METHOD:PUBLISH
X-WR-CALNAME:Loving Awareness
X-ORIGINAL-URL:https://lovingawareness.org
X-WR-CALDESC:Events for Loving Awareness
REFRESH-INTERVAL;VALUE=DURATION:PT1H
X-Robots-Tag:noindex
X-PUBLISHED-TTL:PT1H
BEGIN:VTIMEZONE
TZID:America/Chicago
BEGIN:DAYLIGHT
TZOFFSETFROM:-0600
TZOFFSETTO:-0500
TZNAME:CDT
DTSTART:20250309T080000
END:DAYLIGHT
BEGIN:STANDARD
TZOFFSETFROM:-0500
TZOFFSETTO:-0600
TZNAME:CST
DTSTART:20251102T070000
END:STANDARD
BEGIN:DAYLIGHT
TZOFFSETFROM:-0600
TZOFFSETTO:-0500
TZNAME:CDT
DTSTART:20260308T080000
END:DAYLIGHT
BEGIN:STANDARD
TZOFFSETFROM:-0500
TZOFFSETTO:-0600
TZNAME:CST
DTSTART:20261101T070000
END:STANDARD
BEGIN:DAYLIGHT
TZOFFSETFROM:-0600
TZOFFSETTO:-0500
TZNAME:CDT
DTSTART:20270314T080000
END:DAYLIGHT
BEGIN:STANDARD
TZOFFSETFROM:-0500
TZOFFSETTO:-0600
TZNAME:CST
DTSTART:20271107T070000
END:STANDARD
END:VTIMEZONE
BEGIN:VEVENT
DTSTART;TZID=America/Chicago:20260201T183000
DTEND;TZID=America/Chicago:20260201T194500
DTSTAMP:20260423T111949
CREATED:20251212T174542Z
LAST-MODIFIED:20260112T175053Z
UID:16263-1769970600-1769975100@lovingawareness.org
SUMMARY:Auspicious Full Moon + Imbolc Convergence | Immersive Sound Alchemy Experience
DESCRIPTION:Gather with us for this powerful alignment that intensifies themes of renewal\, purification\, and new beginnings \n\n\n\nThis is an extra sacred time of nurturing nature’s awakening within us AND honoring the full moon energy … a potent convergence of energies that support our embodied awakening. \n\n\n\nConnect within through guided meditation for reflection + realignment\, healing sounds + conscious breath\, as Savi and Mark lovingly guide our journey from deep wintering to spring awakening by the light and energy of the full moon. \n\n\n\nOn this night – February 1st (Imbolc *in the belly of the mother*  in the Celtic tradition)\, we gather to honor the midpoint between winter and spring — a sacred time of nurturing Nature’s awakening spirit within us. \n\n\n\nThis is a potent time for connecting with our Inner Sun\, the lamp of sustaining LIGHT that we are Sourced of\, that is ever-lit and always with us. It is a time for realignment and reflection as we prepare to awaken from our inward journey of wintering into the aliveness of life springing into rebirth. \n\n\n\nAnd this year\, Imbolc lands on the same night as the Full Moon in Leo! This creates a magically charged evening to bask in the energies of fire and light\, of rebirth and transformation! \n\n\n\nJoin us for a guided interactive full moon energy journey … then immerse in the sonic healing waves of an intuitively unfolding Sound Alchemy experience. \n\n\n\nPlease PRE-Register before 1pm on Sunday February 1stPlease Register Here: https://beingcollective.us/event/full-moon-sound-alchemy-6/ \n\n\n\n\n\nBe with us for this guided\, interactive and immersive experience honoring the energy of the full moon as we harness the power of our breath\, merged with meditative mantras and liberating vocalizing to free the mind and body before we lift off into a journey of pure ethereal and ancestral sonic alchemy. \n\n\n\nPlease bring yoga mat\, blanket\, water bottle and anything else to assist in your comfort while sitting / laying on our wood floor. \n\n\n\nOur time together opens with honoring\, intentions\, and meditation in sync with the moon’s energy and gently eases into an intuitive flow of sacred sound current that soothes\, calms\, inspires\, and aids in gentle release\, while supporting inner peace\, balance\, and transformation. \n\n\n\nOur heart and intuition crafted full moon sound alchemy experiences uplift you on a magic carpet ride with waves and waves of resonating frequency.Immerse yourself. \n\n\n\nSunday\,  February 1 @ Being Collective109 S Appleton St6:30 – 7:45 pm | 75 Minutes | $30/Person \n\n\n\nSavi and Mark\, your Loving Awareness Guides\, tune into the collective energy of those present to deliver a unique and immersive experience — bringing a field of Love and Healing alive in the most felt\, balancing\, and beautiful ways. \n\n\n\nMark and Savi are seasoned Conscious Experience Guides who take great care to create and hold sacred space for souls to embody authentically\, while allowing rest\, reset\, and restoration from within. \n\n\n\nEach Sound Alchemy Experience features a unique synergy of some of the following: \n\n\n\nHandpan\, crystal and Origin Series Singing Bowls\, overtone flute\, Koshi chimes\, metallophones\, seed rattles\, medicine drums\, vibrational drones and harmonium\, sounding breath\, nature sounds\, intuited Light Language\, and vocal toning\, singing\, and more… \n\n\n\nAllow yourself to rest\, reset\, and restore as you receive the waves of vibrational sound medicine. \n\n\n\nThe journey comes full circle with some moments of peaceful silence before being gently guided back into the waking moment\, allowing time for reflection and integration. \n\n\n\nPlease Register Here: https://beingcollective.us/event/full-moon-sound-alchemy-6/
URL:https://lovingawareness.org/event/full-moon-sound-alchemy-4/
LOCATION:Being Collective\, 109 S Appleton St\, Appleton\, Wisconsin\, 54911\, United States
CATEGORIES:Full Moon
ATTACH;FMTTYPE=image/jpeg:https://lovingawareness.org/wp-content/uploads/2025/10/Screenshot-2025-03-31-at-1.05.13-PM.jpg
END:VEVENT
BEGIN:VEVENT
DTSTART;TZID=America/Chicago:20260206T183000
DTEND;TZID=America/Chicago:20260206T200000
DTSTAMP:20260423T111949
CREATED:20251212T174031Z
LAST-MODIFIED:20260130T164713Z
UID:16261-1770402600-1770408000@lovingawareness.org
SUMMARY:Brilliant Bliss Mantra Music Journey
DESCRIPTION:COMMUNITY SINGING UPLIFTS THE SPIRIT\, OPENS THE HEART\, CALMS THE MIND\, AND INSTILLS CONNECTION AND INNER-HARMONY. JOIN THE CIRCLE AND EXPERIENCE IT WITH US! \n\n\n\nSACRED SOUND MEDICINE FOR HEART AND SOUL ~ SING . LISTEN . BREATHE . CONNECT . BE .\n\n\n\nPlease register here: https://beingcollective.us/event/brilliant-bliss-mantra-music-journey-2/ \n\n\n\nDid you know that singing in community can increase inner-peace\, uplift your mind\, open your heart + leave you feeling more connected\, centered\, and alive? \n\n\n\nJoin our Family Band — Savi\, Mark\, Deann\, Denise\, Eliana + soul family friends — for an evening of Brilliant Bliss: a participatory\, co-creative music + sound healing journey. \n\n\n\nCome sing with us\, rock your body\, dance if the mood arises\, and bask in the ocean of sacred sounds and heart connection with soul family. \n\n\n\nNot a singer? No problem! Come and immerse in the sound current and BE. \n\n\n\nBrilliant Bliss Mantra Music is sacred sound medicine for heart & soul\, weaving high vibe conscious lyrics\, ancient mantras\, and earthy-cosmic grooves that embrace\, uplift\, empower & elevate! \n\n\n\nThe most important part of the band is…YOU! \n\n\n\nIt’s YOUR Presence and open heart that co-create the magic that unfolds. \n\n\n\nTHANK YOU FOR CHOOSING TO JOIN US FOR THIS COLLECTIVE SOUL-ENRICHING EXPERIENCE!\n\n\n\nWhat to Bring — \n\n\n\nParking: available in the ramp behind our building \n\n\n\nPLEASE BRING for your comfort: \n\n\n\nCushion/pillow + blanket for floor seating\, if you prefer this \n\n\n\nWater bottle with sealable cap \n\n\n\nPlease register here: https://beingcollective.us/event/brilliant-bliss-mantra-music-journey-2/
URL:https://lovingawareness.org/event/brilliant-bliss-mantra-music-journey/
LOCATION:Being Collective\, 109 S Appleton St\, Appleton\, Wisconsin\, 54911\, United States
CATEGORIES:Mantra Music Journey
ATTACH;FMTTYPE=image/jpeg:https://lovingawareness.org/wp-content/uploads/2025/12/Screenshot-2026-01-30-at-10.19.51-AM.jpg
END:VEVENT
BEGIN:VEVENT
DTSTART;TZID=America/Chicago:20260208T113000
DTEND;TZID=America/Chicago:20260208T124500
DTSTAMP:20260423T111949
CREATED:20251209T025425Z
LAST-MODIFIED:20251209T025428Z
UID:16259-1770550200-1770554700@lovingawareness.org
SUMMARY:Soul Sound Journey with Savi + Mark | Sound Alchemy for Mind\, Body\, Spirit
DESCRIPTION:Journey with us! Rest. Reset. Restore.Soothing Sunday Soul Sound Journeys … your soul is calling. \n\n\n\nWe invite you to experience how intentionally crafted sound vibrations can give you a restful and revitalizing restorative reset. Come be cocooned in resonant waves of sonic vibrations created and inspired in the moment.  \n\n\n\nPlease Pre – Register below. PRE – REGISTRATION appreciated due to event popularity and space availability.Register HERE \n\n\n\n\n\nSavi and Mark\, your Loving Awareness Soul Sound Journey guides\, tune into the collective energy of those present to deliver a unique and immersive soundscape — bringing a field of nurturing love and healing alive in the most felt\, balancing\, and beautiful ways. \n\n\n\nImmerse Yourself in a sonic river of healing\, an ocean love with waves and waves of resonating frequency that soothe\, calm\, aid in gentle release\, and support inner peace\, balance\, and transformation. \n\n\n\nMark and Savi are seasoned Conscious Experience Guides who know how to create and hold sacred space for souls to embody authentically\, while allowing rest\, reset\, and restoration from within. \n\n\n\nSoul Sound Journeys with Savi and Mark are one of a kind (and never the same thing twice!)\, featuring a unique synergy of the following: \n\n\n\nHandpan\, Tibetan\, crystal\, and Origin Series singing bowls\, overtone flute\, drone flutes\, ocarina (clay flute)\, Nepalese bells\, Koshi chimes\, metallophones\, seed rattles\, medicine drums\, vibrational drones and harmonium\, sounding breath\, nature sounds\, intuited Light Language\, and vocal toning\, singing\, and more… \n\n\n\nAllow yourself to rest\, reset\, and restore as you receive the waves of vibrational sound medicine. \n\n\n\nThe journey comes full circle with some moments of peaceful silence before being gently guided back into the waking moment\, allowing time for reflection and integration. \n\n\n\nWhat To Bring: \n\n\n\nAnything that will support you in feeling comfy\, cozy\, and cocooned during the journey! \n\n\n\nSuggestions are: \n\n\n\n\nYoga Mat\, other thicker mat\n\n\n\nBlanket(s)\n\n\n\nPillow(s)\n\n\n\nSocks/Slippers\n\n\n\nEye Mask (if you want to block light\, totally optional\, listen to your inner guidance)\n\n\n\nWater bottle\n\n\n\n\nWhat to Expect: \n\n\n\n\nThe full journey from start to finish will be 75 minutes\, including introduction at the beginning and integration/reflection time at the end\n\n\n\nWe are a shoes off gathering space\, please feel free to bring slippers or cozy socks\n\n\n\nYou will be invited to lie down during the sound journey\, and you are welcome to change positions at any time for comfort. \n\n\n\nOther familiar terms you may have heard for experiences like this can be: sound bath\, sound healing\, sound therapy\, etc. We choose Soul Sound Journey and Sound Alchemy for our unique experience as it is a transformative sound vibration fusion of intuitive\, indigenous\, and ancient\, ancestral sounds and vocalizations that ‘speak to the soul’.\n\n\n\n\nWe look forward to journeying into the alchemy of sound with you!REGISTER HERE \n\n\n\nWant to Schedule a Private Group Soul Sound Journey? \n\n\n\nTo book a private Soul Sound Journey for your special group\, please reach out: \n\n\n\nconnect@beingcollective.us 
URL:https://lovingawareness.org/event/soul-sound-journey-with-savi-mark-sound-alchemy-for-mind-body-spirit-4/
LOCATION:Being Collective\, 109 S Appleton St\, Appleton\, Wisconsin\, 54911\, United States
CATEGORIES:Soul Sound Journey
ATTACH;FMTTYPE=image/jpeg:https://lovingawareness.org/wp-content/uploads/2025/01/Screenshot-2025-01-06-5.32.56-PM.jpg
END:VEVENT
BEGIN:VEVENT
DTSTART;TZID=America/Chicago:20260214T113000
DTEND;TZID=America/Chicago:20260214T124500
DTSTAMP:20260423T111949
CREATED:20260104T185743Z
LAST-MODIFIED:20260130T165413Z
UID:16280-1771068600-1771073100@lovingawareness.org
SUMMARY:Flow Love / World Sound Healing Day Sound Journey
DESCRIPTION:Flow Love on World Sound Healing Day! Let yourSelf receive this intuitively co-created flow of Healing Sounds encoded with the frequencies of Love & Compassion … as we ripple the waves out to the whole world. FLOW LOVE with us! \n\n\n\n\n\n\n\nJourney with us! Rest. Reset. Restore.Soothing Soul Sound Journeys … your soul is calling. \n\n\n\nWe invite you to experience how intentionally crafted sound vibrations can give you a restful and revitalizing restorative reset. Come be cocooned in resonant waves of sonic vibrations created and inspired in the moment.  \n\n\n\nPlease Pre – Register Here date: Being Collective  PRE – REGISTRATION appreciated due to event popularity and space availability. \n\n\n\n\n\nSavi and Mark\, your Loving Awareness Soul Sound Journey guides\, tune into the collective energy of those present to deliver a unique and immersive soundscape — bringing a field of nurturing love and healing alive in the most felt\, balancing\, and beautiful ways. \n\n\n\nImmerse Yourself in a sonic river of healing\, an ocean love with waves and waves of resonating frequency that soothe\, calm\, aid in gentle release\, and support inner peace\, balance\, and transformation. \n\n\n\nMark and Savi are seasoned Conscious Experience Guides who know how to create and hold sacred space for souls to embody authentically\, while allowing rest\, reset\, and restoration from within. \n\n\n\nSoul Sound Journeys with Savi and Mark are one of a kind (and never the same thing twice!)\, featuring a unique synergy of the following: \n\n\n\nHandpan\, Tibetan\, crystal\, and Origin Series singing bowls\, overtone flute\, drone flutes\, ocarina (clay flute)\, Nepalese bells\, Koshi chimes\, metallophones\, seed rattles\, medicine drums\, vibrational drones and harmonium\, sounding breath\, nature sounds\, intuited Light Language\, and vocal toning\, singing\, and more… \n\n\n\nAllow yourself to rest\, reset\, and restore as you receive the waves of vibrational sound medicine. \n\n\n\nThe journey comes full circle with some moments of peaceful silence before being gently guided back into the waking moment\, allowing time for reflection and integration. \n\n\n\nWhat To Bring: \n\n\n\nAnything that will support you in feeling comfy\, cozy\, and cocooned during the journey! \n\n\n\nSuggestions are: \n\n\n\n\nYoga Mat\, other thicker mat\n\n\n\nBlanket(s)\n\n\n\nPillow(s)\n\n\n\nSocks/Slippers\n\n\n\nEye Mask (if you want to block light\, totally optional\, listen to your inner guidance)\n\n\n\nWater bottle\n\n\n\n\nWhat to Expect: \n\n\n\n\nThe full journey from start to finish will be 75 minutes\, including introduction at the beginning and integration/reflection time at the end\n\n\n\nWe are a shoes off gathering space\, please feel free to bring slippers or cozy socks\n\n\n\nYou will be invited to lie down during the sound journey\, and you are welcome to change positions at any time for comfort. \n\n\n\nOther familiar terms you may have heard for experiences like this can be: sound bath\, sound healing\, sound therapy\, etc. We choose Soul Sound Journey and Sound Alchemy for our unique experience as it is a transformative sound vibration fusion of intuitive\, indigenous\, and ancient\, ancestral sounds and vocalizations that ‘speak to the soul’.\n\n\n\n\nWe look forward to journeying into the alchemy of sound with you! \n\n\n\nSavi and Mark\, your Loving Awareness Soul Sound Journey guides\, tune into the collective energy of those present to deliver a unique and immersive soundscape — bringing a field of nurturing love and healing alive in the most felt\, balancing\, and beautiful ways. \n\n\n\nImmerse Yourself in a sonic river of healing\, an ocean love with waves and waves of resonating frequency that soothe\, calm\, aid in gentle release\, and support inner peace\, balance\, and transformation. \n\n\n\nMark and Savi are seasoned Conscious Experience Guides who know how to create and hold sacred space for souls to embody authentically\, while allowing rest\, reset\, and restoration from within. \n\n\n\nSoul Sound Journeys with Savi and Mark are one of a kind (and never the same thing twice!)\, featuring a unique synergy of the following: \n\n\n\nHandpan\, Tibetan\, crystal\, and Origin Series singing bowls\, overtone flute\, drone flutes\, ocarina (clay flute)\, Nepalese bells\, Koshi chimes\, metallophones\, seed rattles\, medicine drums\, vibrational drones and harmonium\, sounding breath\, nature sounds\, intuited Light Language\, and vocal toning\, singing\, and more… \n\n\n\nAllow yourself to rest\, reset\, and restore as you receive the waves of vibrational sound medicine. \n\n\n\nThe journey comes full circle with some moments of peaceful silence before being gently guided back into the waking moment\, allowing time for reflection and integration. \n\n\n\nWhat To Bring: \n\n\n\nAnything that will support you in feeling comfy\, cozy\, and cocooned during the journey! \n\n\n\nSuggestions are: \n\n\n\n\nYoga Mat\, other thicker mat\n\n\n\nBlanket(s)\n\n\n\nPillow(s)\n\n\n\nSocks/Slippers\n\n\n\nEye Mask (if you want to block light\, totally optional\, listen to your inner guidance)\n\n\n\nWater bottle\n\n\n\n\nWhat to Expect: \n\n\n\n\nThe full journey from start to finish will be 75 minutes\, including introduction at the beginning and integration/reflection time at the end\n\n\n\nWe are a shoes off gathering space\, please feel free to bring slippers or cozy socks\n\n\n\nYou will be invited to lie down during the sound journey\, and you are welcome to change positions at any time for comfort. \n\n\n\nOther familiar terms you may have heard for experiences like this can be: sound bath\, sound healing\, sound therapy\, etc. We choose Soul Sound Journey and Sound Alchemy for our unique experience as it is a transformative sound vibration fusion of intuitive\, indigenous\, and ancient\, ancestral sounds and vocalizations that ‘speak to the soul’.\n\n\n\n\nWe look forward to journeying into the alchemy of sound with you! \n\n\n\n\n\n\n\nWorld Sound Healing DAy\n\n\n\n24th Annual WORLD SOUND HEALING DAYFEBRUARY 14\, 2026 \n\n\n\nWHAT: World Sound Healing Day-The Sound Heard Around the World. Every February 14th\, people throughout the planet join together with their intentionalized sound to project a sonic valentine of love & appreciation to Gaia\, our Earth Mother. \n\n\n\nPlease Pre – Register Here dat: Being Collective  PRE – REGISTRATION appreciated due to event popularity and space availability. \n\n\n\nWant to Schedule a Private Group Soul Sound Journey?\n\n\n\nTo book a private Soul Sound Journey for your special group\, please reach out: info@lovingawareness.org
URL:https://lovingawareness.org/event/special-valentine-world-sound-healing-day-sound-journey/
LOCATION:Being Collective\, 109 S Appleton St\, Appleton\, Wisconsin\, 54911\, United States
CATEGORIES:Soul Sound Journey
ATTACH;FMTTYPE=image/jpeg:https://lovingawareness.org/wp-content/uploads/2026/01/flow-love.jpg
END:VEVENT
END:VCALENDAR